BEGIN:VCALENDAR
VERSION:2.0
PRODID:-//Commune de Sevremont - ECPv4.7.3//NONSGML v1.0//EN
CALSCALE:GREGORIAN
METHOD:PUBLISH
X-WR-CALNAME:Commune de Sevremont
X-ORIGINAL-URL:https://www.sevremont.fr
X-WR-CALDESC:Évènements pour Commune de Sevremont
BEGIN:VEVENT
DTSTART;TZID=Europe/Paris:20260108T190000
DTEND;TZID=Europe/Paris:20260108T210000
DTSTAMP:20260423T121610
CREATED:20250919T101731Z
LAST-MODIFIED:20260106T111752Z
UID:907808-1767898800-1767906000@www.sevremont.fr
SUMMARY:Cérémonie des voeux
DESCRIPTION:\n\n\n\n\n\n\n\nLa cérémonie des vœux de la Mairie de Sèvremont est décalée au jeudi 8 janvier 2026 à 19h à la salle de sports de la commune déléguée de Les Châtelliers-Châteaumur : l’occasion d’en savoir plus sur les projets de la commune et de retrouver d’autres Sèvremontains\, autour d’un moment convivial.\n\n\n\n\n\n\n\n\n \n \n\n\n\n \n \n\n\n\n\n\n\n\n\n \n\n \n\n\n \n \n\n\n\n\n\n\n\n
URL:https://www.sevremont.fr/evenement/ceremonie-des-voeux/
LOCATION:Salle de sports – Les Châtelliers-Châteaumur
CATEGORIES:Réunion publique
ATTACH;FMTTYPE=image/jpeg:https://www.sevremont.fr/wp-content/uploads/2024/12/Cérémonie-des-voeux.jpg
ORGANIZER;CN="Mairie%20de%20S%C3%A8vremont":MAILTO:contact@sevremont.fr
END:VEVENT
END:VCALENDAR