BEGIN:VCALENDAR
VERSION:2.0
PRODID:-//Commune de Sevremont - ECPv4.7.3//NONSGML v1.0//EN
CALSCALE:GREGORIAN
METHOD:PUBLISH
X-WR-CALNAME:Commune de Sevremont
X-ORIGINAL-URL:https://www.sevremont.fr
X-WR-CALDESC:Évènements pour Commune de Sevremont
BEGIN:VEVENT
DTSTART;TZID=Europe/Paris:20260117T140000
DTEND;TZID=Europe/Paris:20260117T210000
DTSTAMP:20260422T220942
CREATED:20251222T154815Z
LAST-MODIFIED:20251223T102520Z
UID:945425-1768658400-1768683600@www.sevremont.fr
SUMMARY:Concours annuel du club de palet fonte
DESCRIPTION:\\\ COMPLET \\\ \n
URL:https://www.sevremont.fr/evenement/concours-annuel-du-club-de-palet-fonte/
LOCATION:Salle de sports – Les Châtelliers-Châteaumur
CATEGORIES:loisirs
ORGANIZER;CN="Club%20de%20palet%20Les%20Ch%C3%A2telliers-Ch%C3%A2teaumur":MAILTO:pfchatellierschateaumur@gmail.com
END:VEVENT
END:VCALENDAR