BEGIN:VCALENDAR
VERSION:2.0
PRODID:-//Commune de Sevremont - ECPv4.7.3//NONSGML v1.0//EN
CALSCALE:GREGORIAN
METHOD:PUBLISH
X-WR-CALNAME:Commune de Sevremont
X-ORIGINAL-URL:https://www.sevremont.fr
X-WR-CALDESC:Évènements pour Commune de Sevremont
BEGIN:VEVENT
DTSTART;TZID=Europe/Paris:20260120T180000
DTEND;TZID=Europe/Paris:20260120T200000
DTSTAMP:20260422T165401
CREATED:20260109T105020Z
LAST-MODIFIED:20260109T105020Z
UID:952233-1768932000-1768939200@www.sevremont.fr
SUMMARY:Inauguration de la salle Snoezelen du centre de loisirs "Sur Une Aire de Flo'lie"
DESCRIPTION: \n
URL:https://www.sevremont.fr/evenement/inauguration-de-la-salle-snoezelen-du-centre-de-loisirs-sur-une-aire-de-flolie/
LOCATION:Accueil périscolaire Sur Une Aire de Flo’lie\, 13 rue du Père Dalin - La Flocellière\, SÈVREMONT\, 85700
END:VEVENT
END:VCALENDAR