BEGIN:VCALENDAR
VERSION:2.0
PRODID:-//Commune de Sevremont - ECPv4.7.3//NONSGML v1.0//EN
CALSCALE:GREGORIAN
METHOD:PUBLISH
X-WR-CALNAME:Commune de Sevremont
X-ORIGINAL-URL:https://www.sevremont.fr
X-WR-CALDESC:Évènements pour Commune de Sevremont
BEGIN:VEVENT
DTSTART;TZID=Europe/Paris:20260121T183000
DTEND;TZID=Europe/Paris:20260121T203000
DTSTAMP:20260422T151148
CREATED:20251222T155345Z
LAST-MODIFIED:20251222T155345Z
UID:945437-1769020200-1769027400@www.sevremont.fr
SUMMARY:Village d'enfants : réunion d'information et de pré-recrutement
DESCRIPTION: \n
URL:https://www.sevremont.fr/evenement/village-denfants-reunion-dinformation-et-de-pre-recrutement/
LOCATION:Salle Les Lavandières – La Pommeraie-sur-Sèvre\, rue des Lavandières - La Pommeraie-sur-Sèvre\, SEVREMONT
CATEGORIES:Autres
END:VEVENT
END:VCALENDAR