BEGIN:VCALENDAR
VERSION:2.0
PRODID:-//Commune de Sevremont - ECPv4.7.3//NONSGML v1.0//EN
CALSCALE:GREGORIAN
METHOD:PUBLISH
X-WR-CALNAME:Commune de Sevremont
X-ORIGINAL-URL:https://www.sevremont.fr
X-WR-CALDESC:Évènements pour Commune de Sevremont
BEGIN:VEVENT
DTSTART;TZID=Europe/Paris:20260126T190000
DTEND;TZID=Europe/Paris:20260126T210000
DTSTAMP:20260420T110647
CREATED:20260120T143622Z
LAST-MODIFIED:20260120T143622Z
UID:957607-1769454000-1769461200@www.sevremont.fr
SUMMARY:Conseil municipal
DESCRIPTION:1. Approbation du procès-verbal de la séance du Conseil Municipal du 18 décembre 2025 \n2. Rapport d’orientations budgétaires 2026 \n3. Autorisation d’engagement de dépenses avant le vote du budget primitif 2026 – Budget principal \n4. Approbation du montant d’attribution de compensation versé par la communauté de communes du Pays de Pouzauges pour l’exercice 2025 \n5. Participation de la commune à la maintenance de l’éclairage public pour l’année 2026 \n6. Participation de la commune à la maintenance de la signalisation lumineuse pour l’année 2026 \n7. Participation versée au SYDEV pour la rénovation d’horloges astronomiques \n8. Participation versée au SYDEV pour la rénovation d’un point lumineux \n9. Acquisition de bâtiments de l’école Saint-Joseph La Flocellière \n10. Vente d’un terrain à l’Alouette du Bocage \n11. Acquisition d’un terrain sur la commune déléguée de Saint-Michel-Mont-Mercure \n12. Déclassement d’une partie de la voirie communale \n13. Vente d’un bâtiment et d’un terrain sur la commune déléguée de Les Châtelliers-Châteaumur \n14. Mandat au centre de gestion de la Vendée pour la conclusion d’une convention de participation pour la couverture du risque santé des agents \n15. Modification du règlement intérieur \n16. Décisions prises par délégation du conseil municipal \n
URL:https://www.sevremont.fr/evenement/conseil-municipal-26-janvier-2026/
LOCATION:Salle Les Lavandières – La Pommeraie-sur-Sèvre\, rue des Lavandières - La Pommeraie-sur-Sèvre\, SEVREMONT
CATEGORIES:Conseil Municipal
ATTACH;FMTTYPE=image/jpeg:https://www.sevremont.fr/wp-content/uploads/2023/10/CM.jpg
ORGANIZER;CN="Mairie%20de%20S%C3%A8vremont":MAILTO:contact@sevremont.fr
END:VEVENT
END:VCALENDAR