BEGIN:VCALENDAR
VERSION:2.0
PRODID:-//Commune de Sevremont - ECPv4.7.3//NONSGML v1.0//EN
CALSCALE:GREGORIAN
METHOD:PUBLISH
X-WR-CALNAME:Commune de Sevremont
X-ORIGINAL-URL:https://www.sevremont.fr
X-WR-CALDESC:Évènements pour Commune de Sevremont
BEGIN:VEVENT
DTSTART;TZID=Europe/Paris:20260214T203000
DTEND;TZID=Europe/Paris:20260214T223000
DTSTAMP:20260420T110546
CREATED:20251222T162453Z
LAST-MODIFIED:20251222T162504Z
UID:945576-1771101000-1771108200@www.sevremont.fr
SUMMARY:Castel en Scène > Représentations adultes
DESCRIPTION: \n
URL:https://www.sevremont.fr/evenement/castel-en-scene-representations-adultes-4/
LOCATION:Salle du Théâtre – Les Châtelliers-Châteaumur\, 6 grand'rue-Les Châtelliers-Châteaumur\, SEVREMONT\, France
CATEGORIES:loisirs
ORGANIZER;CN="Castel%20en%20sc%C3%A8ne":MAILTO:castelenscene85@gmail.com
END:VEVENT
END:VCALENDAR