BEGIN:VCALENDAR
VERSION:2.0
PRODID:-//Commune de Sevremont - ECPv4.7.3//NONSGML v1.0//EN
CALSCALE:GREGORIAN
METHOD:PUBLISH
X-WR-CALNAME:Commune de Sevremont
X-ORIGINAL-URL:https://www.sevremont.fr
X-WR-CALDESC:Évènements pour Commune de Sevremont
BEGIN:VEVENT
DTSTART;TZID=Europe/Paris:20260215T150000
DTEND;TZID=Europe/Paris:20260215T170000
DTSTAMP:20260420T110814
CREATED:20251222T162543Z
LAST-MODIFIED:20251222T162543Z
UID:945579-1771167600-1771174800@www.sevremont.fr
SUMMARY:Castel en Scène > Représentations adultes
DESCRIPTION: \n
URL:https://www.sevremont.fr/evenement/castel-en-scene-representations-adultes-5/
LOCATION:Salle du Théâtre – Les Châtelliers-Châteaumur\, 6 grand'rue-Les Châtelliers-Châteaumur\, SEVREMONT\, France
CATEGORIES:loisirs
ORGANIZER;CN="Castel%20en%20sc%C3%A8ne":MAILTO:castelenscene85@gmail.com
END:VEVENT
END:VCALENDAR