BEGIN:VCALENDAR
VERSION:2.0
PRODID:-//Commune de Sevremont - ECPv4.7.3//NONSGML v1.0//EN
CALSCALE:GREGORIAN
METHOD:PUBLISH
X-WR-CALNAME:Commune de Sevremont
X-ORIGINAL-URL:https://www.sevremont.fr
X-WR-CALDESC:Évènements pour Commune de Sevremont
BEGIN:VEVENT
DTSTART;TZID=Europe/Paris:20260222T153000
DTEND;TZID=Europe/Paris:20260222T173000
DTSTAMP:20260422T103300
CREATED:20251223T105532Z
LAST-MODIFIED:20260120T082854Z
UID:945897-1771774200-1771781400@www.sevremont.fr
SUMMARY:Comédimanche
DESCRIPTION:L’Ecluse vous invite à 3 après-midis cinéma avec un film puis un goûter pour 2 €. \n \nLes séances sont ouvertes aux adhérents de l’Ecluse (adhésion possible sur place 2 €). \n \n \nDimanche 25 janvier 2026 : En fanfare\n \nDimanche 22 février 2026 : Le sens de la fête \n \nDimanche 12 avril 2026 : Délicieux \n
URL:https://www.sevremont.fr/evenement/comedimanche-22-fevrier-2026-2/
LOCATION:Salle Les Lavandières – La Pommeraie-sur-Sèvre\, rue des Lavandières - La Pommeraie-sur-Sèvre\, SEVREMONT
CATEGORIES:culture
ORGANIZER;CN="L%27%C3%89cluse":MAILTO:lecluse.asso@gmail.com
END:VEVENT
END:VCALENDAR