BEGIN:VCALENDAR
VERSION:2.0
PRODID:-//Commune de Sevremont - ECPv4.7.3//NONSGML v1.0//EN
CALSCALE:GREGORIAN
METHOD:PUBLISH
X-WR-CALNAME:Commune de Sevremont
X-ORIGINAL-URL:https://www.sevremont.fr
X-WR-CALDESC:Évènements pour Commune de Sevremont
BEGIN:VEVENT
DTSTART;TZID=Europe/Paris:20260307T073000
DTEND;TZID=Europe/Paris:20260309T190000
DTSTAMP:20260420T094701
CREATED:20260303T091302Z
LAST-MODIFIED:20260303T091302Z
UID:973648-1772868600-1773082800@www.sevremont.fr
SUMMARY:Ouverture du lac
DESCRIPTION: \n
URL:https://www.sevremont.fr/evenement/ouverture-du-lac/
LOCATION:Lac de Saint-Michel-Mont-Mercure\, rue des Tilleuls - Saint-Michel-Mont-Mercure\, SEVREMONT\, 85700\, France
CATEGORIES:loisirs
END:VEVENT
END:VCALENDAR