BEGIN:VCALENDAR
VERSION:2.0
PRODID:-//Commune de Sevremont - ECPv4.7.3//NONSGML v1.0//EN
CALSCALE:GREGORIAN
METHOD:PUBLISH
X-WR-CALNAME:Commune de Sevremont
X-ORIGINAL-URL:https://www.sevremont.fr
X-WR-CALDESC:Évènements pour Commune de Sevremont
BEGIN:VEVENT
DTSTART;TZID=Europe/Paris:20260314T193000
DTEND;TZID=Europe/Paris:20260314T233000
DTSTAMP:20260420T094029
CREATED:20260303T092237Z
LAST-MODIFIED:20260309T081236Z
UID:973670-1773516600-1773531000@www.sevremont.fr
SUMMARY:ANNULÉE /// Fuz de la Bière
DESCRIPTION:
URL:https://www.sevremont.fr/evenement/fuz-de-la-biere/
LOCATION:Complexe sportif du Mont Mercure\, route du Puy-Lambert-La Flocellière\, SEVREMONT\, 85700\, France
CATEGORIES:loisirs
ORGANIZER;CN="Comit%C3%A9%20des%20f%C3%AAtes%20-%20La%20Flocelli%C3%A8re":MAILTO:comitedesfetes.laflocelliere@gmail.com
END:VEVENT
END:VCALENDAR