BEGIN:VCALENDAR
VERSION:2.0
PRODID:-//Commune de Sevremont - ECPv4.7.3//NONSGML v1.0//EN
CALSCALE:GREGORIAN
METHOD:PUBLISH
X-WR-CALNAME:Commune de Sevremont
X-ORIGINAL-URL:https://www.sevremont.fr
X-WR-CALDESC:Évènements pour Commune de Sevremont
BEGIN:VEVENT
DTSTART;TZID=Europe/Paris:20260320T193000
DTEND;TZID=Europe/Paris:20260320T213000
DTSTAMP:20260420T042943
CREATED:20260316T150811Z
LAST-MODIFIED:20260317T154948Z
UID:980326-1774035000-1774042200@www.sevremont.fr
SUMMARY:Conseil municipal
DESCRIPTION:Ordre du jour \n1- Installation du conseil municipal \n2- Election du maire \n3- Election du maire de la commune déléguée de La Flocellière \n4- Election du maire de la commune déléguée de Saint-Michel-Mont-Mercure \n5- Election du maire de la commune déléguée de La Pommeraie-sur-Sèvre \n6- Election du maire de la commune déléguée de Les Châtelliers-Châteaumur \n7- Détermination du nombre des adjoints \n8- Election des adjoints \n9- Lecture et remise de la charte de l’élu local \n10- Création des commissions municipales \n11- Détermination du nombre de membres au sein du centre communal d’action sociale \n12- Fixation des indemnités de fonction des élus municipaux \n13- Mode de scrutin pour les désignations ou les nominations \n14- Choix du lieu de réunion du conseil municipal \n15- Délégation du conseil municipal au maire de certaines de ses attributions \n16- Divers \n
URL:https://www.sevremont.fr/evenement/conseil-municipal-20-mars-2026/
LOCATION:Salle Les Lavandières – La Pommeraie-sur-Sèvre\, rue des Lavandières - La Pommeraie-sur-Sèvre\, SEVREMONT
CATEGORIES:Conseil Municipal
ATTACH;FMTTYPE=image/jpeg:https://www.sevremont.fr/wp-content/uploads/2023/10/CM.jpg
ORGANIZER;CN="Mairie%20de%20S%C3%A8vremont":MAILTO:contact@sevremont.fr
END:VEVENT
END:VCALENDAR