BEGIN:VCALENDAR
VERSION:2.0
PRODID:-//Commune de Sevremont - ECPv4.7.3//NONSGML v1.0//EN
CALSCALE:GREGORIAN
METHOD:PUBLISH
X-WR-CALNAME:Commune de Sevremont
X-ORIGINAL-URL:https://www.sevremont.fr
X-WR-CALDESC:Évènements pour Commune de Sevremont
BEGIN:VEVENT
DTSTART;TZID=Europe/Paris:20260410T160000
DTEND;TZID=Europe/Paris:20260412T120000
DTSTAMP:20260420T012913
CREATED:20260326T150911Z
LAST-MODIFIED:20260326T150911Z
UID:987797-1775836800-1775995200@www.sevremont.fr
SUMMARY:Benne à papiers
DESCRIPTION: \n
URL:https://www.sevremont.fr/evenement/benne-a-papiers/
ORGANIZER;CN="%C3%A9cole%20Les%203%20Ponts%20La%20Pommeraie-sur-S%C3%A8vre":MAILTO:ec.lapommeraiesursevre.les3ponts@ddec85.org
END:VEVENT
BEGIN:VEVENT
DTSTART;TZID=Europe/Paris:20260410T190000
DTEND;TZID=Europe/Paris:20260410T210000
DTSTAMP:20260420T012913
CREATED:20260326T150553Z
LAST-MODIFIED:20260326T150553Z
UID:987757-1775847600-1775854800@www.sevremont.fr
SUMMARY:Boum du carnaval
DESCRIPTION:L’APEL organise sa première boum du carnaval\, proposée aux élèves du CP au CM2 de l’école Saint Joseph ! \nConcours de déguisement par classe – Nombre de places limité et surveillance d’un parent obligatoire \nInscription sur HelloAsso avant le 3 avril \n  \n \n
URL:https://www.sevremont.fr/evenement/boum-du-carnaval/
LOCATION:Salle Marquis de Surgères – La Flocellière\, Place Marquis de Surgères-La Flocellière\, SEVREMONT\, 85700\, France
CATEGORIES:loisirs
END:VEVENT
BEGIN:VEVENT
DTSTART;TZID=Europe/Paris:20260411T200000
DTEND;TZID=Europe/Paris:20260411T230000
DTSTAMP:20260420T012913
CREATED:20260303T094600Z
LAST-MODIFIED:20260303T094600Z
UID:973849-1775937600-1775948400@www.sevremont.fr
SUMMARY:Soirée musicale Les Arts Sèvremontains
DESCRIPTION: \n
URL:https://www.sevremont.fr/evenement/soiree-musicale-les-arts-sevremontains/
LOCATION:Salle des fêtes – Saint-Michel-Mont-Mercure\, 11 rue du Mail - Saint-Michel-Mont-Mercure\, SÈVREMONT\, 85700\, France
CATEGORIES:loisirs
ORGANIZER;CN="Les%20Arts%20S%C3%A8vremontains":MAILTO:artssevremontains@gmail.com
END:VEVENT
BEGIN:VEVENT
DTSTART;TZID=Europe/Paris:20260412T090000
DTEND;TZID=Europe/Paris:20260412T170000
DTSTAMP:20260420T012913
CREATED:20260303T094740Z
LAST-MODIFIED:20260303T094740Z
UID:973870-1775984400-1776013200@www.sevremont.fr
SUMMARY:Vide-grenier
DESCRIPTION: \n
URL:https://www.sevremont.fr/evenement/vide-grenier-4/
LOCATION:Complexe sportif du Mont Mercure\, route du Puy-Lambert-La Flocellière\, SEVREMONT\, 85700\, France
ORGANIZER;CN="OGEC%20Ecole%20Sainte%20Anne%20Saint-Michel-Mont-Mercure":MAILTO:ogecsteanne85700@gmail.com
END:VEVENT
BEGIN:VEVENT
DTSTART;TZID=Europe/Paris:20260412T153000
DTEND;TZID=Europe/Paris:20260412T173000
DTSTAMP:20260420T012913
CREATED:20260120T082913Z
LAST-MODIFIED:20260326T150118Z
UID:957110-1776007800-1776015000@www.sevremont.fr
SUMMARY:Comédimanche
DESCRIPTION:L’Ecluse vous invite à 3 après-midis cinéma avec un film puis un goûter pour 2 €. \n \nLes séances sont ouvertes aux adhérents de l’Ecluse (adhésion possible sur place 2 €). \n \n \n \n \nDimanche 12 avril 2026 : Délicieux \n
URL:https://www.sevremont.fr/evenement/comedimanche-12-avril-2026/
END:VEVENT
END:VCALENDAR