BEGIN:VCALENDAR
VERSION:2.0
PRODID:-//Commune de Sevremont - ECPv4.7.3//NONSGML v1.0//EN
CALSCALE:GREGORIAN
METHOD:PUBLISH
X-WR-CALNAME:Commune de Sevremont
X-ORIGINAL-URL:https://www.sevremont.fr
X-WR-CALDESC:Évènements pour Commune de Sevremont
BEGIN:VEVENT
DTSTART;TZID=Europe/Paris:20260503T073000
DTEND;TZID=Europe/Paris:20260503T120000
DTSTAMP:20260420T043202
CREATED:20260410T090324Z
LAST-MODIFIED:20260410T090335Z
UID:994870-1777793400-1777809600@www.sevremont.fr
SUMMARY:Randonnée de L'Ecluse
DESCRIPTION: \n
URL:https://www.sevremont.fr/evenement/randonnee-de-lecluse-2026/
LOCATION:Salle de sports La Moutardière – La Pommeraie-sur-Sèvre
CATEGORIES:loisirs
ATTACH;FMTTYPE=image/jpeg:https://www.sevremont.fr/wp-content/uploads/2024/08/EVENEMENT_Randonnée.jpg
ORGANIZER;CN="L%27%C3%89cluse":MAILTO:lecluse.asso@gmail.com
END:VEVENT
END:VCALENDAR