BEGIN:VCALENDAR
VERSION:2.0
PRODID:-//Commune de Sevremont - ECPv4.7.3//NONSGML v1.0//EN
CALSCALE:GREGORIAN
METHOD:PUBLISH
X-WR-CALNAME:Commune de Sevremont
X-ORIGINAL-URL:https://www.sevremont.fr
X-WR-CALDESC:Évènements pour Commune de Sevremont
BEGIN:VEVENT
DTSTART;VALUE=DATE:20260704
DTEND;VALUE=DATE:20260706
DTSTAMP:20260420T073857
CREATED:20251020T123332Z
LAST-MODIFIED:20260413T134409Z
UID:921173-1783123200-1783295999@www.sevremont.fr
SUMMARY:10 ans de Sèvremont
DESCRIPTION:10 ans que l’on cohabite… Il est temps de fêter cela en GRAND\, en trèèèèèès GRAND ! Sèvremontains\, Sèvremontaines\, préparez vos baskets\, vos cordes vocales et votre second degré. Les 4 et 5 JUILLET 2026\, on fête les 10 ans de notre commune nouvelle et ça va être du sport !\n \n \nLe programme qui va vous faire vibrer :\n \nSAMEDI 4 JUILLET (Complexe sportif\, Les Châtelliers-Châteaumur)\n \nLE GRAND JEU INTERVILLES. \n4 communes\, 4 équipes\, une seule coupe ! De 5 à 75 ans\, nos athlètes du dimanche (et du samedi) vont s’affronter : épreuves sportives\, remue-méninges et talents artistiques. Qui de La Pommeraie-sur-Sèvre\, de Saint-Michel-Mont-Mercure\, de Les Châtelliers-Châteaumur ou de La Flocellière soulèvera le trophée ? Faites vos jeux !\n \nLA GRANDE SOIRÉE. \nAprès l’effort\, le réconfort. Concert\, DJ\, et ambiance de folie pour danser jusqu’au bout de la nuit.\n \n \nDIMANCHE 5 JUILLET (Saint-Michel-Mont-Mercure)\nLA MESSE & COR DE CHASSE.\nOn se retrouve à l’église pour un moment solennel suivi d’une sortie en musique qui va réveiller tout le haut bocage !\n \nDÉJEUNER DANSANT. \nLe grand déjeuner dansant animé par le groupe TAVERNE s’annonce mémorable\, mais attention… il n’y aura pas de place pour tout le monde !\nNombre de places limité : 175 repas disponibles par commune déléguée. Pour obtenir votre précieux sésame\, une seule date à retenir pour la permanence de réservation : dimanche 26 avril de 10h à 12h ! Retrouvez vos comités des fêtes sur les points de vente locaux :\n> La Flocellière : Place du Commerce\n> Saint-Michel-Mont-Mercure : Place du Relais\n> La Pommeraie-sur-Sèvre : Parking « Aux Saveurs des 3 Ponts »\n> Les Châtelliers-Châteaumur : Parking « Aux Saveurs de Tom »\nLe chef vous a concocté un menu aux saveurs locales :\n> Menu Adulte (20 €) : Entrée poisson\, Jambon au porto\, fromage et café gourmand.\n> Menu Enfant (10 €) : Œuf mimosa\, jambon/pommes de terre et douceurs sucrées.\n \nLes 4 comités des fêtes \n  \n  \n
URL:https://www.sevremont.fr/evenement/10-ans-de-sevremont/
CATEGORIES:loisirs
ORGANIZER;CN="Comit%C3%A9%20des%20f%C3%AAtes%20-%20La%20Flocelli%C3%A8re":MAILTO:comitedesfetes.laflocelliere@gmail.com
END:VEVENT
END:VCALENDAR