BEGIN:VCALENDAR
VERSION:2.0
PRODID:-//Commune de Sevremont - ECPv4.7.3//NONSGML v1.0//EN
CALSCALE:GREGORIAN
METHOD:PUBLISH
X-WR-CALNAME:Commune de Sevremont
X-ORIGINAL-URL:https://www.sevremont.fr
X-WR-CALDESC:Évènements pour Commune de Sevremont
BEGIN:VEVENT
DTSTART;TZID=Europe/Paris:20210324T153000
DTEND;TZID=Europe/Paris:20210324T193000
DTSTAMP:20260425T140721
CREATED:20201126T133919Z
LAST-MODIFIED:20201126T133919Z
UID:233831-1616599800-1616614200@www.sevremont.fr
SUMMARY:Don du sang 24 mars
DESCRIPTION:
URL:https://www.sevremont.fr/evenement/don-du-sang-24-mars/
LOCATION:Salle Les Lavandières – La Pommeraie-sur-Sèvre\, rue des Lavandières - La Pommeraie-sur-Sèvre\, SEVREMONT
CATEGORIES:santé et social
ATTACH;FMTTYPE=image/jpeg:https://www.sevremont.fr/wp-content/uploads/2020/11/LOGO-Don-du-sang-pays-de-pouzauges.jpg
ORGANIZER;CN="Association%20pour%20le%20don%20du%20sang%20du%20Pays%20de%20Pouzauges":MAILTO:dondusang.pouzauges85@gmail.com
END:VEVENT
END:VCALENDAR