BEGIN:VCALENDAR
VERSION:2.0
PRODID:-//Commune de Sevremont - ECPv4.7.3//NONSGML v1.0//EN
CALSCALE:GREGORIAN
METHOD:PUBLISH
X-WR-CALNAME:Commune de Sevremont
X-ORIGINAL-URL:https://www.sevremont.fr
X-WR-CALDESC:Évènements pour Commune de Sevremont
BEGIN:VEVENT
DTSTART;TZID=Europe/Paris:20230930T140000
DTEND;TZID=Europe/Paris:20230930T190000
DTSTAMP:20260423T172855
CREATED:20230810T133858Z
LAST-MODIFIED:20230925T145510Z
UID:591958-1696082400-1696100400@www.sevremont.fr
SUMMARY:Après-midi festif de l'EHPAD
DESCRIPTION:\n \n \n \n \n \n
URL:https://www.sevremont.fr/evenement/apres-midi-festif-de-l-ehpad/
LOCATION:EHPAD Notre-Dame de Lorette\, La Flocellière\, 85700 SÈVREMONT\, France
CATEGORIES:santé et social
END:VEVENT
END:VCALENDAR