BEGIN:VCALENDAR
VERSION:2.0
PRODID:-//Commune de Sevremont - ECPv4.7.3//NONSGML v1.0//EN
CALSCALE:GREGORIAN
METHOD:PUBLISH
X-WR-CALNAME:Commune de Sevremont
X-ORIGINAL-URL:https://www.sevremont.fr
X-WR-CALDESC:Évènements pour Commune de Sevremont
BEGIN:VEVENT
DTSTART;TZID=Europe/Paris:20241006T140000
DTEND;TZID=Europe/Paris:20241006T180000
DTSTAMP:20260422T231809
CREATED:20240812T140854Z
LAST-MODIFIED:20241003T071949Z
UID:751796-1728223200-1728237600@www.sevremont.fr
SUMMARY:L'EHPAD en fête
DESCRIPTION:Animations diverses \nChorale des résidents \nEnveloppes surprises \nGroupe Easykos La Pommeraie-sur-Sèvre \n  \n \n
URL:https://www.sevremont.fr/evenement/lehpad-en-fete/
LOCATION:EHPAD Notre-Dame de Lorette\, La Flocellière\, 85700 SÈVREMONT\, France
CATEGORIES:santé et social
ATTACH;FMTTYPE=image/png:https://www.sevremont.fr/wp-content/uploads/2024/06/Logo-Ehpad-800600.png
END:VEVENT
END:VCALENDAR