BEGIN:VCALENDAR
VERSION:2.0
PRODID:-//Commune de Sevremont - ECPv4.7.3//NONSGML v1.0//EN
CALSCALE:GREGORIAN
METHOD:PUBLISH
X-WR-CALNAME:Commune de Sevremont
X-ORIGINAL-URL:https://www.sevremont.fr
X-WR-CALDESC:Évènements pour Commune de Sevremont
BEGIN:VEVENT
DTSTART;TZID=Europe/Paris:20241123T160000
DTEND;TZID=Europe/Paris:20241210T170000
DTSTAMP:20260422T194823
CREATED:20241025T094244Z
LAST-MODIFIED:20241126T094312Z
UID:780534-1732377600-1733850000@www.sevremont.fr
SUMMARY:Téléthon 2024 à Sèvremont
DESCRIPTION:Du 23 novembre au 10 décembre\, de nombreuses animations au profit du Téléthon sont proposées sur la commune de Sèvremont : \n  \nSamedi 23 novembre de 16h à 22h – La Pommeraie-sur-Sèvre / Salle de sports de La Moutardière\nMarché de Noël du comité des fêtes : producteurs locaux\, idées cadeaux\, bar à huîtres\, structures gonflables gratuites pour les enfants\, bar et restauration \n  \nJeudi 28 novembre à 14h – La Flocellière / Salle Marquis de Surgères\nAprès-midi jeux proposé par le club des aînés flocéens \n  \nJeudi 28 novembre de 14h30 à 18h – Saint-Michel-Mont-Mercure / Foyer associatif\nAprès-midi jeux proposé par le club de l’amitié (inscription 3 € minimum) \n  \nVendredi 29 novembre à partir de 18h – Saint-Michel-Mont-Mercure / Sous les halles\n18h : début de préparation de la fressure\n19h15 : RDV pour la marche nocturne familiale (départ à 19h30) proposée par Les Pas du Sommet\, APEL/OGEC École Sainte-Anne et Sèvremont Football Club : apportez votre décoration pour agrémenter le sapin ! Participation libre – Soupe à l’oignon offerte à l’arrivée par Ouvrard Traiteur\n19h30 : vente de pizzas (3 € la part / apporter son contenant) fabriquées par « Le Fournil du Sommet »\, bar tenu par des associations michelaises\, crêpes et gâteaux proposés par le foyer des jeunes (1 € la part) \n  \nVendredi 29 novembre à 20h – Saint-Michel-Mont-Mercure / Complexe sportif du Mont Mercure – Salle 3\nConcours de palet individuel organisé par le Palet Club (inscription 2 €)\, vente de pizzas (3 € la part / apporter son contenant) fabriquées par « Le Fournil du Sommet » \n  \nSamedi 30 novembre toute la journée – La Flocellière / Complexe sportif du Mont Mercure\nVente de crêpes lors des matchs de Sèvremont Basket Club \n  \nSamedi 30 novembre – Les Châtelliers-Châteaumur / Salle de sports\nde 9h à 10h : départ des randonnées – 2 circuits proposés : 6 et 11 km\nà partir de 12h : apéritif + repas à emporter préparé par « Aux saveurs de Tom » Velouté de légumes / Tartiflette / Moelleux aux pommes (12 €) – Prévoir sac cabas – Réservation avant le 25 novembre : Gilles Gaborieau – 06 15 09 27 69 \n  \nSamedi 30 novembre de 10h30 à 13h – Saint-Michel-Mont-Mercure / Sous les halles\nVente de fressure (7 € la part)\, vente de pizzas fabriquées par « Le Fournil du Sommet » (3 € la part / apporter son contenant) et bar tenu par des associations michelaises \n  \nDimanche 1er décembre – La Flocellière / Château\nde 8h30 à 10h : petit-déjeuner 8 € café thé ou chocolat – sur inscription avant le 25 novembre auprès de Geneviève SELLIER 06 70 19 79 73 ou Jeanine SEGUIN 06 25 02 55 74\n10h : départ de la marche familiale proposée par Les Sentiers Flocéens \n  \nSamedi 7 décembre de 15h à 20h et dimanche 8 décembre de 11h à 18h – La Flocellière / Château\nMarché de Noël \n  \nDimanche 8 décembre à 15h – La Pommeraie-sur-Sèvre / Église\nConcert de la chorale des compagnons d’Arquignon de Saint-Germain-de-Prinçay\, avec la participation des « Troubadours des Ponts » et de musiciens de La Pommeraie-sur-Sèvre pour un intermède musical\, organisé par L’Écluse \n  \nMardi 10 décembre à 14h – La Pommeraie-sur-Sèvre / Salle Les Lavandières\nConcours de belote du club de l’amitié (inscription 13h30) \n  \n \n
URL:https://www.sevremont.fr/evenement/telethon-2024/
CATEGORIES:santé et social
END:VEVENT
END:VCALENDAR