BEGIN:VCALENDAR
VERSION:2.0
PRODID:-//Commune de Sevremont - ECPv4.7.3//NONSGML v1.0//EN
CALSCALE:GREGORIAN
METHOD:PUBLISH
X-WR-CALNAME:Commune de Sevremont
X-ORIGINAL-URL:https://www.sevremont.fr
X-WR-CALDESC:Évènements pour Commune de Sevremont
BEGIN:VEVENT
DTSTART;TZID=Europe/Paris:20250917T140000
DTEND;TZID=Europe/Paris:20250917T180000
DTSTAMP:20260422T051106
CREATED:20250822T080112Z
LAST-MODIFIED:20250822T080112Z
UID:895346-1758117600-1758132000@www.sevremont.fr
SUMMARY:Goûter des aînés
DESCRIPTION:Les aînés de plus de 75 ans et leurs conjoints sont conviés à un goûter à la salle de sports de Les Châtelliers-Châteaumur\, animé par Philippe LEGAL et son nouveau spectacle musical en chansons et imitations « Au Carrefour des Chansons !… »\, à la croisée des notes et des refrains\ndes grandes voix de la chanson française. \nPlaces limitées à 400 personnes\, les réservations se font suite à l’envoi d’un courrier d’invitation. \n
URL:https://www.sevremont.fr/evenement/gouter-des-aines/
LOCATION:Salle de sports – Les Châtelliers-Châteaumur
CATEGORIES:santé et social
END:VEVENT
END:VCALENDAR