BEGIN:VCALENDAR
VERSION:2.0
PRODID:-//Commune de Sevremont - ECPv4.7.3//NONSGML v1.0//EN
CALSCALE:GREGORIAN
METHOD:PUBLISH
X-WR-CALNAME:Commune de Sevremont
X-ORIGINAL-URL:https://www.sevremont.fr
X-WR-CALDESC:Évènements pour Commune de Sevremont
BEGIN:VEVENT
DTSTART;VALUE=DATE:20200913
DTEND;VALUE=DATE:20200914
DTSTAMP:20260422T043612
CREATED:20200716T092005Z
LAST-MODIFIED:20200903T082629Z
UID:160051-1599955200-1600041599@www.sevremont.fr
SUMMARY:2ème Festi'miam
DESCRIPTION:Cette journée festive et pédagogique réunira les initiatives locales en faveur d’une alimentation locale et de qualité. \nAu menu :\n– Un marché fermier\n– Un espace restauration\n– Des animations ludiques\n– De la musique\n– Des tables rondes \nEn famille\, venez manger\, danser\, vous informer\, jouer\, vous balader\, rencontrer des producteurs\, échanger… \n
URL:https://www.sevremont.fr/evenement/2eme-festimiam/
LOCATION:Maison de la Vie Rurale
ORGANIZER;CN="CPIE%20S%C3%A8vre%20et%20Bocage":MAILTO:contact@cpie-sevre-bocage.com
END:VEVENT
END:VCALENDAR