BEGIN:VCALENDAR
VERSION:2.0
PRODID:-//Commune de Sevremont - ECPv4.7.3//NONSGML v1.0//EN
CALSCALE:GREGORIAN
METHOD:PUBLISH
X-WR-CALNAME:Commune de Sevremont
X-ORIGINAL-URL:https://www.sevremont.fr
X-WR-CALDESC:Évènements pour Commune de Sevremont
BEGIN:VEVENT
DTSTART;TZID=Europe/Paris:20190917T200000
DTEND;TZID=Europe/Paris:20190917T230000
DTSTAMP:20260421T153335
CREATED:20190704T143933Z
LAST-MODIFIED:20190704T144012Z
UID:22350-1568750400-1568761200@www.sevremont.fr
SUMMARY:Assemblée générale Art'Flo
DESCRIPTION:
URL:https://www.sevremont.fr/evenement/assemblee-generale/
CATEGORIES:loisirs
END:VEVENT
END:VCALENDAR