BEGIN:VCALENDAR
VERSION:2.0
PRODID:-//Commune de Sevremont - ECPv4.7.3//NONSGML v1.0//EN
CALSCALE:GREGORIAN
METHOD:PUBLISH
X-WR-CALNAME:Commune de Sevremont
X-ORIGINAL-URL:https://www.sevremont.fr
X-WR-CALDESC:Évènements pour Commune de Sevremont
BEGIN:VEVENT
DTSTART;TZID=Europe/Paris:20191012T090000
DTEND;TZID=Europe/Paris:20191012T140000
DTSTAMP:20260421T165726
CREATED:20190704T151740Z
LAST-MODIFIED:20190704T151752Z
UID:22584-1570870800-1570888800@www.sevremont.fr
SUMMARY:Atelier pâtisserie
DESCRIPTION:au CFA de Saint-Michel-Mont-Mercure \n
URL:https://www.sevremont.fr/evenement/atelier-patisserie-au-cfa-de/
LOCATION:MFR Saint-Michel-Mont-Mercure
CATEGORIES:loisirs
ORGANIZER;CN="Familles%20Rurales%20-%20La%20Flocelli%C3%A8re":MAILTO:famillesruraleslaflo@gmail.com
END:VEVENT
END:VCALENDAR