BEGIN:VCALENDAR
VERSION:2.0
PRODID:-//Commune de Sevremont - ECPv4.7.3//NONSGML v1.0//EN
CALSCALE:GREGORIAN
METHOD:PUBLISH
X-WR-CALNAME:Commune de Sevremont
X-ORIGINAL-URL:https://www.sevremont.fr
X-WR-CALDESC:Évènements pour Commune de Sevremont
BEGIN:VEVENT
DTSTART;TZID=Europe/Paris:20190915T143000
DTEND;TZID=Europe/Paris:20190915T190000
DTSTAMP:20260421T183841
CREATED:20190909T145800Z
LAST-MODIFIED:20190909T145800Z
UID:50709-1568557800-1568574000@www.sevremont.fr
SUMMARY:Bal organisé par le club des Aînés
DESCRIPTION:Salle du Puy-Lambert commune déléguée de La Flocellière SEVREMONT \n
URL:https://www.sevremont.fr/evenement/bal-organise-par-le-club-des-aines/
CATEGORIES:loisirs
END:VEVENT
END:VCALENDAR