BEGIN:VCALENDAR
VERSION:2.0
PRODID:-//Commune de Sevremont - ECPv4.7.3//NONSGML v1.0//EN
CALSCALE:GREGORIAN
METHOD:PUBLISH
X-WR-CALNAME:Commune de Sevremont
X-ORIGINAL-URL:https://www.sevremont.fr
X-WR-CALDESC:Évènements pour Commune de Sevremont
BEGIN:VEVENT
DTSTART;VALUE=DATE:20220611
DTEND;VALUE=DATE:20220613
DTSTAMP:20260421T185950
CREATED:20220318T133504Z
LAST-MODIFIED:20220318T133504Z
UID:408303-1654905600-1655078399@www.sevremont.fr
SUMMARY:Bienvenue dans mon jardin au naturel - 10 ans
DESCRIPTION:Visites de jardins cultivés sans pesticide ni engrais de synthèse\, économes en eau et respectueux de la vie du sol. \n
URL:https://www.sevremont.fr/evenement/bienvenue-dans-mon-jardin-au-naturel-10-ans/
CATEGORIES:nature
ATTACH;FMTTYPE=image/jpeg:https://www.sevremont.fr/wp-content/uploads/2020/12/LOGO-CPIE-Sèvre-et-Bocage.jpg
ORGANIZER;CN="CPIE%20S%C3%A8vre%20et%20Bocage":MAILTO:contact@cpie-sevre-bocage.com
END:VEVENT
END:VCALENDAR