BEGIN:VCALENDAR
VERSION:2.0
PRODID:-//Commune de Sevremont - ECPv4.7.3//NONSGML v1.0//EN
CALSCALE:GREGORIAN
METHOD:PUBLISH
X-WR-CALNAME:Commune de Sevremont
X-ORIGINAL-URL:https://www.sevremont.fr
X-WR-CALDESC:Évènements pour Commune de Sevremont
BEGIN:VEVENT
DTSTART;TZID=Europe/Paris:20251213T200000
DTEND;TZID=Europe/Paris:20251213T230000
DTSTAMP:20260422T061349
CREATED:20250919T101056Z
LAST-MODIFIED:20250919T101056Z
UID:907746-1765656000-1765666800@www.sevremont.fr
SUMMARY:Boum de Noël pour les 11-14 ans
DESCRIPTION:Sur inscription via HelloAsso \n
URL:https://www.sevremont.fr/evenement/boum-de-noel-pour-les-11-14-ans/
LOCATION:Salle Marquis de Surgères – La Flocellière\, Place Marquis de Surgères-La Flocellière\, SEVREMONT\, 85700\, France
CATEGORIES:loisirs
ATTACH;FMTTYPE=image/jpeg:https://www.sevremont.fr/wp-content/uploads/2024/08/EVENEMENT_Fête.jpg
ORGANIZER;CN="Familles%20Rurales%20-%20La%20Flocelli%C3%A8re":MAILTO:famillesruraleslaflo@gmail.com
END:VEVENT
END:VCALENDAR