BEGIN:VCALENDAR
VERSION:2.0
PRODID:-//Commune de Sevremont - ECPv4.7.3//NONSGML v1.0//EN
CALSCALE:GREGORIAN
METHOD:PUBLISH
X-WR-CALNAME:Commune de Sevremont
X-ORIGINAL-URL:https://www.sevremont.fr
X-WR-CALDESC:Évènements pour Commune de Sevremont
BEGIN:VEVENT
DTSTART;TZID=Europe/Paris:20220430T140000
DTEND;TZID=Europe/Paris:20220430T180000
DTSTAMP:20260421T190134
CREATED:20220318T112810Z
LAST-MODIFIED:20220318T112810Z
UID:407679-1651327200-1651341600@www.sevremont.fr
SUMMARY:Bricollectif
DESCRIPTION:Apprenez à réparer vos objets du quotidien en suivant les conseils d’experts avec du matériel à disposition\, dans un cadre convivial. \n
URL:https://www.sevremont.fr/evenement/bricollectif/
LOCATION:Maison de la Vie Rurale
CATEGORIES:Autres
ATTACH;FMTTYPE=image/jpeg:https://www.sevremont.fr/wp-content/uploads/2020/12/LOGO-CPIE-Sèvre-et-Bocage.jpg
ORGANIZER;CN="CPIE%20S%C3%A8vre%20et%20Bocage":MAILTO:contact@cpie-sevre-bocage.com
END:VEVENT
END:VCALENDAR