BEGIN:VCALENDAR
VERSION:2.0
PRODID:-//Commune de Sevremont - ECPv4.7.3//NONSGML v1.0//EN
CALSCALE:GREGORIAN
METHOD:PUBLISH
X-WR-CALNAME:Commune de Sevremont
X-ORIGINAL-URL:https://www.sevremont.fr
X-WR-CALDESC:Évènements pour Commune de Sevremont
BEGIN:VEVENT
DTSTART;TZID=Europe/Paris:20191029T203000
DTEND;TZID=Europe/Paris:20191029T203000
DTSTAMP:20260421T153441
CREATED:20191004T081545Z
LAST-MODIFIED:20191114T165148Z
UID:61743-1572381000-1572381000@www.sevremont.fr
SUMMARY:Carte blanche FESTIMAJ
DESCRIPTION:Pour toute information\, cliquez sur le lien –> ICI \n\n\nCARTE BLANCHE À FESTIMAJ\npar collectif associations pays de pouzauges \nPROJECTION ENVIRONNEMENT ADULTES\n\n\n\n Pouzauges\n  \n 29/10/2019\n  \n Accessible\n  \n 20h30\n\n\n\n  \n\n\nCourts métrages sur le thème de l’environnement et de la lutte contre le réchauffement climatique \n< retour à la liste des événements \n\n\n\nEchiquier\nLa Fournière – 85700 Pouzauges (France)\n\n\n\n
URL:https://www.sevremont.fr/evenement/carte-blanche-festimaj/
CATEGORIES:culture
END:VEVENT
END:VCALENDAR