BEGIN:VCALENDAR
VERSION:2.0
PRODID:-//Commune de Sevremont - ECPv4.7.3//NONSGML v1.0//EN
CALSCALE:GREGORIAN
METHOD:PUBLISH
X-WR-CALNAME:Commune de Sevremont
X-ORIGINAL-URL:https://www.sevremont.fr
X-WR-CALDESC:Évènements pour Commune de Sevremont
BEGIN:VEVENT
DTSTART;TZID=Europe/Paris:20260527T153000
DTEND;TZID=Europe/Paris:20260527T193000
DTSTAMP:20260420T013334
CREATED:20260326T151918Z
LAST-MODIFIED:20260326T151918Z
UID:987853-1779895800-1779910200@www.sevremont.fr
SUMMARY:Collecte de sang
DESCRIPTION:Prise de RDV ici \n
URL:https://www.sevremont.fr/evenement/collecte-de-sang-2/
LOCATION:Salle Les Lavandières – La Pommeraie-sur-Sèvre\, rue des Lavandières - La Pommeraie-sur-Sèvre\, SEVREMONT
CATEGORIES:santé et social
ATTACH;FMTTYPE=image/jpeg:https://www.sevremont.fr/wp-content/uploads/2021/03/Don-du-sang.jpg
ORGANIZER;CN="Association%20pour%20le%20don%20du%20sang%20du%20Pays%20de%20Pouzauges":MAILTO:dondusang.pouzauges85@gmail.com
END:VEVENT
END:VCALENDAR