BEGIN:VCALENDAR
VERSION:2.0
PRODID:-//Commune de Sevremont - ECPv4.7.3//NONSGML v1.0//EN
CALSCALE:GREGORIAN
METHOD:PUBLISH
X-WR-CALNAME:Commune de Sevremont
X-ORIGINAL-URL:https://www.sevremont.fr
X-WR-CALDESC:Évènements pour Commune de Sevremont
BEGIN:VEVENT
DTSTART;TZID=Europe/Paris:20260508T090000
DTEND;TZID=Europe/Paris:20260508T120000
DTSTAMP:20260420T012644
CREATED:20260414T080751Z
LAST-MODIFIED:20260414T080807Z
UID:996359-1778230800-1778241600@www.sevremont.fr
SUMMARY:Commémoration de la Victoire 1945
DESCRIPTION:9h : communes déléguées de Saint-Michel-Mont-Mercure\, La Pommeraie-sur-Sèvre et la Flocellière\, rassemblement  au monument aux morts de chaque cimetière pour un dépôt de gerbe \n  \n9h45 : rassemblement de la section de Sèvremont sur la place de l’Église de Les Châtelliers-Châteaumur \n  \n10h : office religieux en l’église de Les Châtelliers-Châteaumur \nà l’issue de l’office religieux\, défilé vers le monument aux morts\, dépôt de gerbe et cérémonie d’hommage. \n
URL:https://www.sevremont.fr/evenement/commemoration-de-la-victoire-1945-8-mai-2026/
CATEGORIES:association patriotique
ATTACH;FMTTYPE=image/jpeg:https://www.sevremont.fr/wp-content/uploads/2024/08/EVENEMENT_Commémoration.jpg
END:VEVENT
END:VCALENDAR