BEGIN:VCALENDAR
VERSION:2.0
PRODID:-//Commune de Sevremont - ECPv4.7.3//NONSGML v1.0//EN
CALSCALE:GREGORIAN
METHOD:PUBLISH
X-WR-CALNAME:Commune de Sevremont
X-ORIGINAL-URL:https://www.sevremont.fr
X-WR-CALDESC:Évènements pour Commune de Sevremont
BEGIN:VEVENT
DTSTART;VALUE=DATE:20211009
DTEND;VALUE=DATE:20211010
DTSTAMP:20260421T154022
CREATED:20210920T133016Z
LAST-MODIFIED:20210920T133016Z
UID:342141-1633737600-1633823999@www.sevremont.fr
SUMMARY:Concours de belote du club de loisirs de Les Châtelliers-Châteaumur
DESCRIPTION:
URL:https://www.sevremont.fr/evenement/concours-de-belote-du-club-de-loisirs-de-les-chatelliers-chateaumur/
LOCATION:Salle Châteaumur – Les Châtelliers-Châteaumur\, Les Châtelliers-Châteaummur\, SEVREMONT\, France
CATEGORIES:loisirs
ATTACH;FMTTYPE=image/jpeg:https://www.sevremont.fr/wp-content/uploads/2021/09/pétanque.jpg
END:VEVENT
END:VCALENDAR