BEGIN:VCALENDAR
VERSION:2.0
PRODID:-//Commune de Sevremont - ECPv4.7.3//NONSGML v1.0//EN
CALSCALE:GREGORIAN
METHOD:PUBLISH
X-WR-CALNAME:Commune de Sevremont
X-ORIGINAL-URL:https://www.sevremont.fr
X-WR-CALDESC:Évènements pour Commune de Sevremont
BEGIN:VEVENT
DTSTART;VALUE=DATE:20211007
DTEND;VALUE=DATE:20211008
DTSTAMP:20260421T172148
CREATED:20210920T131722Z
LAST-MODIFIED:20210920T131722Z
UID:342095-1633564800-1633651199@www.sevremont.fr
SUMMARY:Concours de boules du club de l'amitié de Saint-Michel-Mont-Mercure
DESCRIPTION:
URL:https://www.sevremont.fr/evenement/concours-de-boules-du-club-de-lamitie-de-saint-michel-mont-mercure/
LOCATION:Salle des fêtes – Saint-Michel-Mont-Mercure\, 11 rue du Mail - Saint-Michel-Mont-Mercure\, SÈVREMONT\, 85700\, France
CATEGORIES:loisirs
ATTACH;FMTTYPE=image/jpeg:https://www.sevremont.fr/wp-content/uploads/2021/09/pétanque.jpg
END:VEVENT
END:VCALENDAR