BEGIN:VCALENDAR
VERSION:2.0
PRODID:-//Commune de Sevremont - ECPv4.7.3//NONSGML v1.0//EN
CALSCALE:GREGORIAN
METHOD:PUBLISH
X-WR-CALNAME:Commune de Sevremont
X-ORIGINAL-URL:https://www.sevremont.fr
X-WR-CALDESC:Évènements pour Commune de Sevremont
BEGIN:VEVENT
DTSTART;VALUE=DATE:20191214
DTEND;VALUE=DATE:20191215
DTSTAMP:20260421T171004
CREATED:20190705T090825Z
LAST-MODIFIED:20190705T090825Z
UID:26819-1576281600-1576367999@www.sevremont.fr
SUMMARY:Concours de palets-ESBF
DESCRIPTION:
URL:https://www.sevremont.fr/evenement/concours-de-palets-esbf/
LOCATION:Complexe sportif du Mont Mercure\, route du Puy-Lambert-La Flocellière\, SEVREMONT\, 85700\, France
CATEGORIES:loisirs,sports
END:VEVENT
END:VCALENDAR