BEGIN:VCALENDAR
VERSION:2.0
PRODID:-//Commune de Sevremont - ECPv4.7.3//NONSGML v1.0//EN
CALSCALE:GREGORIAN
METHOD:PUBLISH
X-WR-CALNAME:Commune de Sevremont
X-ORIGINAL-URL:https://www.sevremont.fr
X-WR-CALDESC:Évènements pour Commune de Sevremont
BEGIN:VEVENT
DTSTART;TZID=Europe/Paris:20191017T193000
DTEND;TZID=Europe/Paris:20191017T193000
DTSTAMP:20260421T183828
CREATED:20191004T074703Z
LAST-MODIFIED:20191004T074703Z
UID:61664-1571340600-1571340600@www.sevremont.fr
SUMMARY:Conseil municipal : Réunion
DESCRIPTION:
URL:https://www.sevremont.fr/evenement/conseil-municipal-reunion/
LOCATION:Salle Le Châtelet – La Flocellière\, 9 Rue de la Rochejaquelein - La Flocellière\, Sèvremont\, 85700\, France
END:VEVENT
END:VCALENDAR