BEGIN:VCALENDAR
VERSION:2.0
PRODID:-//Commune de Sevremont - ECPv4.7.3//NONSGML v1.0//EN
CALSCALE:GREGORIAN
METHOD:PUBLISH
X-WR-CALNAME:Commune de Sevremont
X-ORIGINAL-URL:https://www.sevremont.fr
X-WR-CALDESC:Évènements pour Commune de Sevremont
BEGIN:VEVENT
DTSTART;TZID=Europe/Paris:20191006T133000
DTEND;TZID=Europe/Paris:20191006T133000
DTSTAMP:20260421T155050
CREATED:20191004T072212Z
LAST-MODIFIED:20191004T072339Z
UID:61505-1570368600-1570368600@www.sevremont.fr
SUMMARY:Dictée du Lions-club de Pouzauges avec Yves Viollier
DESCRIPTION:La Flocellière. Le Lions Club Pouzauges-Bocage organise un après-midi dictée avec le concours d’Yves Viollier\, écrivain vendéen. Ce rendez-vous aura lieu à la Maison de la vie rurale\, à dimanche 6 octobre\, dès 13 h 30\, pour les inscriptions. Cette manifestation s’inscrit dans le cadre de l’action nationale « agir pour la lecture\, vaincre l’illettrisme ». À l’issue\, un échange est prévu avec Yves Viollier qui dédicacera son dernier livre. \nDimanche 6 octobre\, participation 2 € pour les collégiens et 3 € pour les adultes. Renseignements et inscriptions : lionsclub.pouzaugesbocage@laposte.net \n
URL:https://www.sevremont.fr/evenement/dictee-du-lions-club-de-pouzauges-avec-yves-viollier/
LOCATION:Maison de la Vie Rurale
CATEGORIES:culture
END:VEVENT
END:VCALENDAR