BEGIN:VCALENDAR
VERSION:2.0
PRODID:-//Commune de Sevremont - ECPv4.7.3//NONSGML v1.0//EN
CALSCALE:GREGORIAN
METHOD:PUBLISH
X-WR-CALNAME:Commune de Sevremont
X-ORIGINAL-URL:https://www.sevremont.fr
X-WR-CALDESC:Évènements pour Commune de Sevremont
BEGIN:VEVENT
DTSTART;TZID=Europe/Paris:20191008T080000
DTEND;TZID=Europe/Paris:20191008T170000
DTSTAMP:20260421T135938
CREATED:20190704T151429Z
LAST-MODIFIED:20190704T151429Z
UID:22559-1570521600-1570554000@www.sevremont.fr
SUMMARY:Don du sang-Les Châtelliers-Châteaumur
DESCRIPTION:
URL:https://www.sevremont.fr/evenement/don-du-sang-les-chatelliers-chateaumur/
CATEGORIES:santé et social
END:VEVENT
END:VCALENDAR