BEGIN:VCALENDAR
VERSION:2.0
PRODID:-//Commune de Sevremont - ECPv4.7.3//NONSGML v1.0//EN
CALSCALE:GREGORIAN
METHOD:PUBLISH
X-WR-CALNAME:Commune de Sevremont
X-ORIGINAL-URL:https://www.sevremont.fr
X-WR-CALDESC:Évènements pour Commune de Sevremont
BEGIN:VEVENT
DTSTART;VALUE=DATE:20190922
DTEND;VALUE=DATE:20190923
DTSTAMP:20260421T225103
CREATED:20190906T073906Z
LAST-MODIFIED:20190910T072542Z
UID:49645-1569110400-1569196799@www.sevremont.fr
SUMMARY:Festi'miam du Bocage à la maison de la vie rurale
DESCRIPTION:Pour le programme\, suivre le lien–>FestiMiam du Bocage \nLE FESTI’MIAM DU BOCAGE : LE FOOD FESTIVAL DE CHEZ NOUS !\n \n\n \n\n\n\nDe 9h à 18h – Maison de la Vie Rurale – La Bernardière – La Flocellière\nLe CPIE Sèvre et Bocage organise un grand festival autour de du patrimoine alimentaire et culinaire du Bocage vendéen.\nEn famille\, venez manger\, danser\, vous informer\, jouer\, vous balader\, rencontrer des producteurs\, échanger…. \nAu menu :\n– Un espace restauration : Un bar associatif\, un marché fermier et des stands de restauration sur place (Les 3 Piliers\, Mont Bagel).\n– Des animations ludiques pour les familles (jeux de piste autour de l’alimentation dans le jardin\, expositions\, circuit sur l’origine des légumes\, atelier autour de la ruche\, arbres à recettes\, coin lecture…)\n– Des ateliers pratiques (atelier de cuisine\, ateliers techniques sur la conservation des aliments\, atelier sur les aliments qui soignent…)\n– Des tables rondes avec des intervenants locaux ayant des propositions /actions concrètes :\no Comment relever le défi du zéro déchet ?\no Transition des systèmes agricoles : et si les entreprises agro-alimentaires avaient leur rôle à jouer ?\no Bien manger à la cantine\, c’est possible ?\no Alimentation de demain : vers des territoires autosuffisants ? \nSans oublier des spectacles pour animer la journée (concert du groupe Tricot Combo\, Brigade d’intervention poétique…). \nEntrée gratuite. \n> Tél 02 51 57 77 14 \n> Plus d’info sur www.facebook.com/events/2345235945795621 \n\n\n  \n
URL:https://www.sevremont.fr/evenement/festimiam-du-bocage-a-la-maison-de-la-vie-rurale/
CATEGORIES:culture,loisirs
END:VEVENT
END:VCALENDAR