BEGIN:VCALENDAR
VERSION:2.0
PRODID:-//Commune de Sevremont - ECPv4.7.3//NONSGML v1.0//EN
CALSCALE:GREGORIAN
METHOD:PUBLISH
X-WR-CALNAME:Commune de Sevremont
X-ORIGINAL-URL:https://www.sevremont.fr
X-WR-CALDESC:Évènements pour Commune de Sevremont
BEGIN:VEVENT
DTSTART;TZID=Europe/Paris:20260426T100000
DTEND;TZID=Europe/Paris:20260426T200000
DTSTAMP:20260421T141853
CREATED:20260421T100851Z
LAST-MODIFIED:20260421T100851Z
UID:998116-1777197600-1777233600@www.sevremont.fr
SUMMARY:Handball > Quarts de finale - Coupes et challenges de Vendée
DESCRIPTION: \n
URL:https://www.sevremont.fr/evenement/handball-quarts-de-finale-coupes-et-challenges-de-vendee/
LOCATION:Complexe sportif du Mont Mercure\, route du Puy-Lambert-La Flocellière\, SEVREMONT\, 85700\, France
CATEGORIES:sports
ORGANIZER;CN="USHB%20Handball":MAILTO:contact@ushbhandball.com
END:VEVENT
END:VCALENDAR