BEGIN:VCALENDAR
VERSION:2.0
PRODID:-//Commune de Sevremont - ECPv4.7.3//NONSGML v1.0//EN
CALSCALE:GREGORIAN
METHOD:PUBLISH
X-WR-CALNAME:Commune de Sevremont
X-ORIGINAL-URL:https://www.sevremont.fr
X-WR-CALDESC:Évènements pour Commune de Sevremont
BEGIN:VEVENT
DTSTART;TZID=Europe/Paris:20190921T143000
DTEND;TZID=Europe/Paris:20190921T143000
DTSTAMP:20260421T210339
CREATED:20190919T094745Z
LAST-MODIFIED:20190919T094856Z
UID:56912-1569076200-1569076200@www.sevremont.fr
SUMMARY:Inauguration la CARABANE à histoires
DESCRIPTION:invitation inauguration la carabane à histoires avec le conseil municipal des enfants \nrendez-vous le samedi 21 septembre à 14h30 dans le parc de la bergelière \nhttps://www.ouest-france.fr/pays-de-la-loire/sevremont-85700/sevremont-les-jeunes-elus-habillent-la-carabane-6410370 \n
URL:https://www.sevremont.fr/evenement/inauguration-la-carabane-a-histoires/
END:VEVENT
END:VCALENDAR