BEGIN:VCALENDAR
VERSION:2.0
PRODID:-//Commune de Sevremont - ECPv4.7.3//NONSGML v1.0//EN
CALSCALE:GREGORIAN
METHOD:PUBLISH
X-WR-CALNAME:Commune de Sevremont
X-ORIGINAL-URL:https://www.sevremont.fr
X-WR-CALDESC:Évènements pour Commune de Sevremont
BEGIN:VEVENT
DTSTART;VALUE=DATE:20200919
DTEND;VALUE=DATE:20200921
DTSTAMP:20260422T075749
CREATED:20200812T064838Z
LAST-MODIFIED:20200918T072639Z
UID:177270-1600473600-1600646399@www.sevremont.fr
SUMMARY:Journées du patrimoine
DESCRIPTION:Saint Michel-Mont-Mercure\n– Visites libres du clocher de l’église\n– Visite guidée du clocher de l’église dimanche 20 septembre de 11h à 18h \nLes Châtelliers-Châteaumur\nVisite libre du donjon et de l’église \nLa Pommeraie-sur-Sèvre\n– Chapelle de Maison-Pré : visite libre \n– Eglise : visites guidées par Thierry GODREAU – association « L’Ecluse »\, le dimanche 20 septembre à 11h et à 15h \nLa Flocellière\n– Visite guidée du château (5 €)\, samedi à 15h\, 16h et 17h et dimanche à 15h\, 16h\, 17h et 18h ; visite libre et gratuite du parc du château\n– Deuxième édition du salon du livre des Journées du patrimoine\, sous la présidence d’honneur de Laure HILLERIN\, romancière et historienne : parcours animations\, tables rondes et conférences\, littérature généraliste et jeunesse\, bandes dessinées\, stands d’éditeurs et de producteurs locaux\, restauration sur place… samedi de 14h à 19h\, dimanche de 11h à 19h ; château de La Flocellière\, 30 rue du Château ; courriel – 06 45 39 13 77.\n– La chapelle de Lorette : visites animées par l’association « La Boulite » le dimanche 20 septembre\n– Le château de La Bergelière : visites guidées de l’extérieur par petits groupes\, dimanche 20 septembre de 14h à 19h\n– Le jardin des Carmes\n– Les jardins de la Maison de la vie rurale (site Internet)\n– Les sculptures de Vivi Fortin (site Internet)\n– Les sentiers du patrimoine (site Internet)\n– Propriété des Graviers\, ouverture exceptionnelle du parc samedi 19 et dimanche 20 septembre\, visites guidées de 14h à 18h. Entrée par la porte du jardin\, rue Amiral Alquier (à côté de chez Claude JADAUD\, face à l’ancien magasin confort ménager) – Renseignements : 06 31 75 43 70 \nA cette occasion\, seront également ouverts :\n– la galerie de Philippe FECHAN\, artiste peintre\, dans le village de Margon à La Flocellière (site Internet)\n– la boutique de créateurs By MaM et l’atelier de l’artiste peintre MaM\, samedi 19 septembre de 15h à 18h et dimanche 20 septembre de 10h à 12h et de 15h à 18h\, 2 place Marquis de Surgères à La Flocellière (page Facebook) \n
URL:https://www.sevremont.fr/evenement/journees-du-patrimoine/
CATEGORIES:patrimoine et histoire
END:VEVENT
END:VCALENDAR