BEGIN:VCALENDAR
VERSION:2.0
PRODID:-//Commune de Sevremont - ECPv4.7.3//NONSGML v1.0//EN
CALSCALE:GREGORIAN
METHOD:PUBLISH
X-WR-CALNAME:Commune de Sevremont
X-ORIGINAL-URL:https://www.sevremont.fr
X-WR-CALDESC:Évènements pour Commune de Sevremont
BEGIN:VEVENT
DTSTART;VALUE=DATE:20190921
DTEND;VALUE=DATE:20190923
DTSTAMP:20260421T155217
CREATED:20190910T071744Z
LAST-MODIFIED:20190920T070603Z
UID:50991-1569024000-1569196799@www.sevremont.fr
SUMMARY:Journées Européennes du patrimoine
DESCRIPTION:\n\n CHÂTEAU DE LA FLOCELLIÈRE\n\n\nDe 14h à 19h – Château – La Flocellière\n\n\nDans le cadre des Journées Européennes du Patrimoine\, le Château de la Flocellière ouvre exceptionnellement certaines de ses pièces au public ! \nVisites commentées à 15h\, 16h et 17h\, entrecoupées par un interlude musical d’exception.\nGregoire Humbert\, pianiste et compositeur choisira pour cette journée ses propres créations musicales aux styles et aux couleurs new-age et inspirées de musiques de film. \nEntrée : 5€. \n> Tél 02 51 57 22 03 \n> Plus d’info sur www.chateaudelaflocelliere.com \n\n\n\n\n\nle château de la bergelière\n\n\ndimanche 22 septembre 14h/18h \nhttps://www.ouest-france.fr/pays-de-la-loire/sevremont-85700/sevremont-exceptionnellement-la-bergeliere-va-se-visiter-6523615 \nhttps://www.facebook.com/Chateau-de-La-Bergelière-416750578468946/ \n\n\n\n\nCHAPELLE DE LORETTE\n\n\nDe 14h à 19h – Rue Duguesclin – La Flocellière\n\n\nL’association La Boulite propose des visites guidées de la Chapelle Notre Dame de Lorette dans le cadre des Journées Européennes du Patrimoine. \nLa Chapelle fut édifiée de 1640 à 1668. A l’origine\, il s’agissait de l’église du Couvent des Carmes\, mais pendant les Guerres de Vendée le couvent fut détruit puis abandonné. La chapelle actuelle ne représente qu’une partie de l’édifice. Au XIXème\, le curé de la Flocellière décide la remise en état de la chapelle et y fait construire la réplique de la Santa Casa de Lorette en Italie\, haut lieu de pèlerinage. \nVisite libre (ou guidée à 17h). Gratuit. Tél 02 51 57 29 30 \n\n\n\n\n le jardin des carmes\n\n\nhttp://scuplturedupas.over-blog.com/2018/01/jardin-de-bernard-en-2017.html \n  \n\n\n\n\n VISITE FLASH – PEINTURES MURALES DE L’ÉGLISE DE LA POMMERAIE SUR SEVRE : LA CAVALCADE DES VICES\n\n\n\n \n\n\n\n15h – Eglise Saint Martin – La Pommeraie-Sur-Sèvre\nPour la 3ème année consécutive\, l’Office de Tourisme du Pays de Pouzauges propose ses Visites Flash pour les Journées du Patrimoine. 5 rendez-vous sur le week-end pour découvrir la richesse d’un patrimoine local\, trop souvent méconnu. \nPour un maximum de découverte dans un minimum de temps ! (30 minutes) \nLa Cavalcade des Vices est un type de représentation où les Péchés capitaux sont figurés par des personnages montés chacun sur un animal. Au-delà de la morale chrétienne\, on peut y voir une satire de la société. \nGratuit. Tél 02 51 91 82 46 \n\n\nVISITE DE BOURG – CHATEAUMUR\, VILLE SEIGNEURIALE\n\n\n \n\n\n17h30 – Parc des Lavandières – Les Châtelliers-Châteaumur\nPour la 3ème année consécutive\, l’Office de Tourisme du Pays de Pouzauges propose ses Visites Flash pour les Journées du Patrimoine. 5 rendez-vous sur le week-end pour découvrir la richesse d’un patrimoine local\, trop souvent méconnu. \nPour un maximum de découverte dans un minimum de temps ! (1 heure) \nLe bourg de Châteaumur possède un donjon\, une enceinte et quelques belles demeures qui témoignent d’un riche passé. Châteaumur a en effet été une seigneurie importante\, rayonnant sur la campagne alentour. \nGratuit. Tél 02 51 91 82 46 \n\n\nCHÂTEAU DE LA BERGELIÈRE\n\n\n \n\n\nDe 14h à 18h – 38 rue Amiral Alquier – La Flocellière\nLe Château de la Bergelière vous ouvre exceptionnellement ses portes pour les Journées du Patrimoine. \nDes visites guidées seront effectuées par un membre de la famille. Le château de la Bergelière se trouve au milieu du bourg\, près de l’église. Il a été entièrement rénové par ses propriétaires après l’incendie de décembre 2001. \nGratuit. Tél 06 84 96 52 08 \n  \n\n\n\n\n  \n\n\n\n\n  \n\n\n
URL:https://www.sevremont.fr/evenement/journees-europeennes-du-patrimoine/
CATEGORIES:culture,patrimoine et histoire
END:VEVENT
END:VCALENDAR