BEGIN:VCALENDAR
VERSION:2.0
PRODID:-//Commune de Sevremont - ECPv4.7.3//NONSGML v1.0//EN
CALSCALE:GREGORIAN
METHOD:PUBLISH
X-WR-CALNAME:Commune de Sevremont
X-ORIGINAL-URL:https://www.sevremont.fr
X-WR-CALDESC:Évènements pour Commune de Sevremont
BEGIN:VEVENT
DTSTART;VALUE=DATE:20191027
DTEND;VALUE=DATE:20191028
DTSTAMP:20260421T135533
CREATED:20191004T081221Z
LAST-MODIFIED:20191007T143247Z
UID:61709-1572134400-1572220799@www.sevremont.fr
SUMMARY:La Castelmuroise
DESCRIPTION:Les Châtelliers-Châteaumur. Jeudi 28 septembre\, les membres de la commission randonnée de l’école étaient réunis pour préparer « la Castelmuroise » qui aura lieu le dimanche 27 octobre. Cette randonnée est organisée par l’Apel de l’école à laquelle s’ajoutent des parents hors bureau\, mais intégrés à la commission pour l’organisation de l’événement. Les départs se feront de la salle de sports\, de 7 h 30 à 9 h 30. \n\n
URL:https://www.sevremont.fr/evenement/la-castelmuroise/
CATEGORIES:loisirs
END:VEVENT
END:VCALENDAR