BEGIN:VCALENDAR
VERSION:2.0
PRODID:-//Commune de Sevremont - ECPv4.7.3//NONSGML v1.0//EN
CALSCALE:GREGORIAN
METHOD:PUBLISH
X-WR-CALNAME:Commune de Sevremont
X-ORIGINAL-URL:https://www.sevremont.fr
X-WR-CALDESC:Évènements pour Commune de Sevremont
BEGIN:VEVENT
DTSTART;TZID=Europe/Paris:20191030T143000
DTEND;TZID=Europe/Paris:20191030T143000
DTSTAMP:20260421T171907
CREATED:20190903T093300Z
LAST-MODIFIED:20190903T093300Z
UID:47590-1572445800-1572445800@www.sevremont.fr
SUMMARY:La cuisine des sorciers et des sorcières - CPIE
DESCRIPTION:LA CUISINE DES SORCIERS ET DES SORCIERES \n30 octobre 2019 – 14h30 à la Maison de la Vie Rurale. La Flocellière – Sèvremont \nPendant les vacances de la Toussaint\, le CPIE Sèvre et Bocage propose un stage de cuisine parent-enfant sous forme d’atelier culinaire et dégustations autour du potiron et du potimarron.  \n  \n  \n  \n  \nOBJECTIF DE L’ATELIER: Découvrir le jardin et plus particulièrement les courges et potirons\, réaliser des recettes salées et sucrées simples avec ces légumes. \n  \nPUBLIC: enfants à partir de 7 ans accompagnés d’un parent. 8 enfants maximum (et leur parent ou accompagnateur adulte). \n  \nLes enfants seront sous la responsabilité de leur référent: utilisation d’ustensiles et outils de cuisine\, four\, plaque électrique et mixer. \n  \nMATERIEL: prévoir une tenue adaptée à une promenade à l’extérieur et à une activité cuisine (tablier si possible). Apporter une gourde ou une bouteille d’eau et des contenants pour emporter les réalisations. \n  \nDEROULEMENT DE L’ATELIER: \nAccueil des participants. \nVisite du potager et\, si légumes disponibles\, cueillette avec l’animatrice. \nRetour au local de la Maison de la vie rurale avec la récolte. \nLavage des mains\, préparation des légumes. \nRéalisation de muffins salés\, d’une soupe et d’une crème-dessert en équipes adultes-enfants\, guidés par l’animatrice. \nDégustation des recettes préparées\, échanges\, rangement. \nLes recettes seront remises à chaque participant. \n  \nCOÛT DE L’ATELIER : \n12€ pour les non-adhérents / 10€ pour les enfants d’adhérents individuels / 8€ pour les adhérents « famille ». \n
URL:https://www.sevremont.fr/evenement/la-cuisine-des-sorciers-et-des-sorcieres-cpie/
CATEGORIES:culture
END:VEVENT
END:VCALENDAR