BEGIN:VCALENDAR
VERSION:2.0
PRODID:-//Commune de Sevremont - ECPv4.7.3//NONSGML v1.0//EN
CALSCALE:GREGORIAN
METHOD:PUBLISH
X-WR-CALNAME:Commune de Sevremont
X-ORIGINAL-URL:https://www.sevremont.fr
X-WR-CALDESC:Évènements pour Commune de Sevremont
BEGIN:VEVENT
DTSTART;VALUE=DATE:20220501
DTEND;VALUE=DATE:20220523
DTSTAMP:20260421T154152
CREATED:20220318T113515Z
LAST-MODIFIED:20220510T092509Z
UID:407703-1651363200-1653263999@www.sevremont.fr
SUMMARY:La Grande Roue sur la "Butte Plage" !
DESCRIPTION:Après un tour dans la roue haute de 45 mètres\, la tête dans les nuages\, redescendez à la « Butte Plage »\, les pieds dans le sable\, pour boire un verre entre amis ou en famille ! \nChaque soir\, découvrez une animation différente proposée par des artistes amateurs ou professionnels locaux. \nOrganisé par l’association Vend’Events et produit par MAINDRON Production\, en partenariat avec la Mairie de Sèvremont. \nUne participation de 1 € par billet sera reversé à l’association herbretaise « Une main pour demain » en solidarité avec l’Ukraine. \n  \nDu lundi au jeudi de 16h à 21h\, \nle vendredi de 16h à 2h\, \nle samedi de 10h à 2h\, \nle dimanche de 10h à 21h. \n  \nTarifs : 8 € adulte\, 4 € enfant + 1 € de don pour l’Ukraine. \n  \n \n
URL:https://www.sevremont.fr/evenement/la-grande-roue-sur-la-butte-plage/
CATEGORIES:loisirs
END:VEVENT
END:VCALENDAR