BEGIN:VCALENDAR
VERSION:2.0
PRODID:-//Commune de Sevremont - ECPv4.7.3//NONSGML v1.0//EN
CALSCALE:GREGORIAN
METHOD:PUBLISH
X-WR-CALNAME:Commune de Sevremont
X-ORIGINAL-URL:https://www.sevremont.fr
X-WR-CALDESC:Évènements pour Commune de Sevremont
BEGIN:VEVENT
DTSTART;TZID=Europe/Paris:20251129T160000
DTEND;TZID=Europe/Paris:20251129T220000
DTSTAMP:20260422T012507
CREATED:20250919T095325Z
LAST-MODIFIED:20251125T114127Z
UID:907653-1764432000-1764453600@www.sevremont.fr
SUMMARY:Marché de Noël
DESCRIPTION: \n
URL:https://www.sevremont.fr/evenement/marche-de-noel-29-novembre-2025/
LOCATION:Salle de sports La Moutardière – La Pommeraie-sur-Sèvre
CATEGORIES:marché
ORGANIZER;CN="Comit%C3%A9%20des%20f%C3%AAtes%20-%20La%20Pommeraie-sur-S%C3%A8vre":MAILTO:cdf.lapommeraie@gmail.com
END:VEVENT
END:VCALENDAR