BEGIN:VCALENDAR
VERSION:2.0
PRODID:-//Commune de Sevremont - ECPv4.7.3//NONSGML v1.0//EN
CALSCALE:GREGORIAN
METHOD:PUBLISH
X-WR-CALNAME:Commune de Sevremont
X-ORIGINAL-URL:https://www.sevremont.fr
X-WR-CALDESC:Évènements pour Commune de Sevremont
BEGIN:VEVENT
DTSTART;TZID=Europe/Paris:20251213T080000
DTEND;TZID=Europe/Paris:20251214T190000
DTSTAMP:20260422T043735
CREATED:20250919T101233Z
LAST-MODIFIED:20250919T101233Z
UID:907765-1765612800-1765738800@www.sevremont.fr
SUMMARY:Marché de Noël > Château de La Flocellière
DESCRIPTION:
URL:https://www.sevremont.fr/evenement/marche-de-noel-chateau-de-la-flocelliere/
LOCATION:Château de La Flocellière
ATTACH;FMTTYPE=image/jpeg:https://www.sevremont.fr/wp-content/uploads/2024/11/LF_ChâteauLaFloAutomne2021_800600.jpg
ORGANIZER;CN="Les%20Amis%20du%20Ch%C3%A2teau%20de%20La%20Flocelli%C3%A8re":MAILTO:contact@chateaudelaflocelliere.com
END:VEVENT
END:VCALENDAR