BEGIN:VCALENDAR
VERSION:2.0
PRODID:-//Commune de Sevremont - ECPv4.7.3//NONSGML v1.0//EN
CALSCALE:GREGORIAN
METHOD:PUBLISH
X-WR-CALNAME:Commune de Sevremont
X-ORIGINAL-URL:https://www.sevremont.fr
X-WR-CALDESC:Évènements pour Commune de Sevremont
BEGIN:VEVENT
DTSTART;TZID=Europe/Paris:20210124T000000
DTEND;TZID=Europe/Paris:20210124T000000
DTSTAMP:20260425T183425
CREATED:20201218T124959Z
LAST-MODIFIED:20201218T124959Z
UID:243865-1611446400-1611446400@www.sevremont.fr
SUMMARY:Marché dominical
DESCRIPTION:Le dimanche de 8h30 à 12h30\, sur la place du commerce de la commune déléguée de La Flocellière\, faites vos emplettes ! \nPrésence de : \n– Gisèle LIMOUSIN « J’m c légumes » (légumes bio) \n– Laetitia et Noël TELLIER « Mont Bagel » \n– Pierrick et Muriel ANDRE (huîtres) \n– OUVRARD Traiteur \n
URL:https://www.sevremont.fr/evenement/marche-dominical-24-janvier/
LOCATION:Place du Commerce – La Flocellière\, SEVREMONT
CATEGORIES:Autres
END:VEVENT
END:VCALENDAR