BEGIN:VCALENDAR
VERSION:2.0
PRODID:-//Commune de Sevremont - ECPv4.7.3//NONSGML v1.0//EN
CALSCALE:GREGORIAN
METHOD:PUBLISH
X-WR-CALNAME:Commune de Sevremont
X-ORIGINAL-URL:https://www.sevremont.fr
X-WR-CALDESC:Évènements pour Commune de Sevremont
BEGIN:VEVENT
DTSTART;TZID=Europe/Paris:20210207T083000
DTEND;TZID=Europe/Paris:20210207T123000
DTSTAMP:20260426T011616
CREATED:20210205T151841Z
LAST-MODIFIED:20210205T151841Z
UID:267726-1612686600-1612701000@www.sevremont.fr
SUMMARY:Marché dominical
DESCRIPTION:Le dimanche de 8h30 à 12h30\, sur la place du commerce de la commune déléguée de La Flocellière\, faites vos emplettes ! \nPrésence de : \n– Gisèle LIMOUSIN « J’m c légumes » (légumes bio) \n– Pierrick et Muriel ANDRE (huîtres) \n– OUVRARD Traiteur \n
URL:https://www.sevremont.fr/evenement/marche-dominical-7-fevrier/
LOCATION:Place du Commerce – La Flocellière\, SEVREMONT
CATEGORIES:Autres
ATTACH;FMTTYPE=image/jpeg:https://www.sevremont.fr/wp-content/uploads/2020/08/Marché_légumes.jpg
END:VEVENT
END:VCALENDAR