BEGIN:VCALENDAR
VERSION:2.0
PRODID:-//Commune de Sevremont - ECPv4.7.3//NONSGML v1.0//EN
CALSCALE:GREGORIAN
METHOD:PUBLISH
X-WR-CALNAME:Commune de Sevremont
X-ORIGINAL-URL:https://www.sevremont.fr
X-WR-CALDESC:Évènements pour Commune de Sevremont
BEGIN:VEVENT
DTSTART;VALUE=DATE:20210202
DTEND;VALUE=DATE:20210203
DTSTAMP:20260425T235211
CREATED:20210201T144145Z
LAST-MODIFIED:20210201T145006Z
UID:264594-1612224000-1612310399@www.sevremont.fr
SUMMARY:Marché hebdomadaire
DESCRIPTION:De 15h30 à 18h\, venez vous approvisionner en produits locaux sur la commune déléguée de Saint-Michel-Mont-Mercure : fruits et légumes\, charcuterie\, miel\, fromage\, plats cuisinés\, confitures… \nLe 1er mardi du mois\, le marché accueille également des producteurs non alimentaires. \nLe marché du mardi 2 février se tiendra au foyer associatif\, rue de l’Eglise. \n
URL:https://www.sevremont.fr/evenement/marche-hebdomadaire-2-fevrier/
CATEGORIES:Autres
END:VEVENT
END:VCALENDAR