BEGIN:VCALENDAR
VERSION:2.0
PRODID:-//Commune de Sevremont - ECPv4.7.3//NONSGML v1.0//EN
CALSCALE:GREGORIAN
METHOD:PUBLISH
X-WR-CALNAME:Commune de Sevremont
X-ORIGINAL-URL:https://www.sevremont.fr
X-WR-CALDESC:Évènements pour Commune de Sevremont
BEGIN:VEVENT
DTSTART;VALUE=DATE:20210928
DTEND;VALUE=DATE:20210929
DTSTAMP:20260422T000026
CREATED:20210705T121029Z
LAST-MODIFIED:20210705T121029Z
UID:322378-1632787200-1632873599@www.sevremont.fr
SUMMARY:Marché local
DESCRIPTION:De 16h30 à 19h30\, venez vous approvisionner en produits locaux sur la commune déléguée de Saint-Michel-Mont-Mercure : fruits et légumes\, charcuterie\, miel\, fromage\, plats cuisinés\, confitures… \n
URL:https://www.sevremont.fr/evenement/marche-local-28-septembre/
LOCATION:Halles – Saint-Michel-Mont-Mercure\, Place du Relais - Saint-Michel-Mont-Mercure\, SEVREMONT\, 85700\, France
CATEGORIES:marché
ATTACH;FMTTYPE=image/jpeg:https://www.sevremont.fr/wp-content/uploads/2021/07/Marché-Saint-Michel.jpg
END:VEVENT
END:VCALENDAR