BEGIN:VCALENDAR
VERSION:2.0
PRODID:-//Commune de Sevremont - ECPv4.7.3//NONSGML v1.0//EN
CALSCALE:GREGORIAN
METHOD:PUBLISH
X-WR-CALNAME:Commune de Sevremont
X-ORIGINAL-URL:https://www.sevremont.fr
X-WR-CALDESC:Évènements pour Commune de Sevremont
BEGIN:VEVENT
DTSTART;VALUE=DATE:20211003
DTEND;VALUE=DATE:20211004
DTSTAMP:20260421T204941
CREATED:20210705T101842Z
LAST-MODIFIED:20210705T101842Z
UID:321856-1633219200-1633305599@www.sevremont.fr
SUMMARY:Marché local
DESCRIPTION:Le dimanche de 9h à 12h30\, sur la place du commerce de la commune déléguée de La Flocellière\, faites vos emplettes ! \n  \nPrésence de : \n– Gisèle LIMOUSIN « J’m c légumes » (légumes bio) \n– Pierrick et Muriel ANDRE (huîtres) ou Dominique DRAPEAU (poissons) \n… \n  \nRetrouvez également Utile\, la boulangerie pâtisserie Raveau\, la boutique de créateurs ByMam… \n
URL:https://www.sevremont.fr/evenement/marche-local-3-octobre/
LOCATION:Place du Commerce – La Flocellière\, SEVREMONT
CATEGORIES:marché
ATTACH;FMTTYPE=image/jpeg:https://www.sevremont.fr/wp-content/uploads/2021/07/Marché-La-Flocellière.jpg
END:VEVENT
END:VCALENDAR